BEGIN:VCALENDAR
VERSION:2.0
PRODID:-//Capital Area Greenbelt Association - ECPv6.15.20//NONSGML v1.0//EN
CALSCALE:GREGORIAN
METHOD:PUBLISH
X-WR-CALNAME:Capital Area Greenbelt Association
X-ORIGINAL-URL:https://caga.org
X-WR-CALDESC:Events for Capital Area Greenbelt Association
REFRESH-INTERVAL;VALUE=DURATION:PT1H
X-Robots-Tag:noindex
X-PUBLISHED-TTL:PT1H
BEGIN:VTIMEZONE
TZID:America/New_York
BEGIN:DAYLIGHT
TZOFFSETFROM:-0500
TZOFFSETTO:-0400
TZNAME:EDT
DTSTART:20180311T070000
END:DAYLIGHT
BEGIN:STANDARD
TZOFFSETFROM:-0400
TZOFFSETTO:-0500
TZNAME:EST
DTSTART:20181104T060000
END:STANDARD
BEGIN:DAYLIGHT
TZOFFSETFROM:-0500
TZOFFSETTO:-0400
TZNAME:EDT
DTSTART:20190310T070000
END:DAYLIGHT
BEGIN:STANDARD
TZOFFSETFROM:-0400
TZOFFSETTO:-0500
TZNAME:EST
DTSTART:20191103T060000
END:STANDARD
BEGIN:DAYLIGHT
TZOFFSETFROM:-0500
TZOFFSETTO:-0400
TZNAME:EDT
DTSTART:20200308T070000
END:DAYLIGHT
BEGIN:STANDARD
TZOFFSETFROM:-0400
TZOFFSETTO:-0500
TZNAME:EST
DTSTART:20201101T060000
END:STANDARD
END:VTIMEZONE
BEGIN:VEVENT
DTSTART;TZID=America/New_York:20190428T090000
DTEND;TZID=America/New_York:20190428T090000
DTSTAMP:20260423T181354
CREATED:20190313T002437Z
LAST-MODIFIED:20190412T020000Z
UID:3114-1556442000-1556442000@caga.org
SUMMARY:Earth Day Tree Planting
DESCRIPTION:The Capital Area Greenbelt Association invites you to celebrate the holiday and plant some trees on our beloved Greenbelt. We will plant 17 bare root trees and 24 containerized trees\, all native to PA\, to replace the trees removed during Capital Region Water’s recent sewer project. Tools will be provided but bring your own if you desire. Wheelbarrows are welcome. Snacks will be provided.\nPlease call Cindy Hogeman 717-571-2535 or email chogeman@gmail.com for additional details. \nLocation:  Harrisburg State Hospital grounds. Use entrance at traffic light across from the Farm Show. Pass through the parking lot\, turn Rt onto South Circle Dr\, left onto West Circle Dr\, then bear right onto Sycamore Dr. Meet at the brick Bldg with the green doors. \nThank you to Capital Region Water for their support in this effort. \nThe Capital Area Greenbelt Association would like to thank the generosity of Capital Region Water for funding this project. \n  \nThis event will be held rain or shine.
URL:https://caga.org/event/earth-day-tree-planting/
LOCATION:State Hospital Grounds\, W Circle Dr\, Harrisburg\, PA\, 17110\, United States
CATEGORIES:Playing In The Dirt
ORGANIZER;CN="CAGA":MAILTO:Caga@caga.org
END:VEVENT
END:VCALENDAR