BEGIN:VCALENDAR
VERSION:2.0
PRODID:-//Capital Area Greenbelt Association - ECPv6.15.20//NONSGML v1.0//EN
CALSCALE:GREGORIAN
METHOD:PUBLISH
X-ORIGINAL-URL:https://caga.org
X-WR-CALDESC:Events for Capital Area Greenbelt Association
REFRESH-INTERVAL;VALUE=DURATION:PT1H
X-Robots-Tag:noindex
X-PUBLISHED-TTL:PT1H
BEGIN:VTIMEZONE
TZID:America/New_York
BEGIN:DAYLIGHT
TZOFFSETFROM:-0500
TZOFFSETTO:-0400
TZNAME:EDT
DTSTART:20190310T070000
END:DAYLIGHT
BEGIN:STANDARD
TZOFFSETFROM:-0400
TZOFFSETTO:-0500
TZNAME:EST
DTSTART:20191103T060000
END:STANDARD
BEGIN:DAYLIGHT
TZOFFSETFROM:-0500
TZOFFSETTO:-0400
TZNAME:EDT
DTSTART:20200308T070000
END:DAYLIGHT
BEGIN:STANDARD
TZOFFSETFROM:-0400
TZOFFSETTO:-0500
TZNAME:EST
DTSTART:20201101T060000
END:STANDARD
BEGIN:DAYLIGHT
TZOFFSETFROM:-0500
TZOFFSETTO:-0400
TZNAME:EDT
DTSTART:20210314T070000
END:DAYLIGHT
BEGIN:STANDARD
TZOFFSETFROM:-0400
TZOFFSETTO:-0500
TZNAME:EST
DTSTART:20211107T060000
END:STANDARD
BEGIN:DAYLIGHT
TZOFFSETFROM:-0500
TZOFFSETTO:-0400
TZNAME:EDT
DTSTART:20220313T070000
END:DAYLIGHT
BEGIN:STANDARD
TZOFFSETFROM:-0400
TZOFFSETTO:-0500
TZNAME:EST
DTSTART:20221106T060000
END:STANDARD
BEGIN:DAYLIGHT
TZOFFSETFROM:-0500
TZOFFSETTO:-0400
TZNAME:EDT
DTSTART:20230312T070000
END:DAYLIGHT
BEGIN:STANDARD
TZOFFSETFROM:-0400
TZOFFSETTO:-0500
TZNAME:EST
DTSTART:20231105T060000
END:STANDARD
BEGIN:DAYLIGHT
TZOFFSETFROM:-0500
TZOFFSETTO:-0400
TZNAME:EDT
DTSTART:20240310T070000
END:DAYLIGHT
BEGIN:STANDARD
TZOFFSETFROM:-0400
TZOFFSETTO:-0500
TZNAME:EST
DTSTART:20241103T060000
END:STANDARD
END:VTIMEZONE
BEGIN:VEVENT
DTSTART;TZID=America/New_York:20230811T173000
DTEND;TZID=America/New_York:20230811T183000
DTSTAMP:20260423T081649
CREATED:20230522T010758Z
LAST-MODIFIED:20230522T010758Z
UID:5761-1691775000-1691778600@caga.org
SUMMARY:Yoga in the Park - Five Senses Garden
DESCRIPTION:Experience the serenity of the Five Senses Garden in this free restorative yoga class. Yoga in the Park is a FREE series\, brought to you by Creative Community Grow and DelightFull Co.  Mats are provided. Be sure to bring water.  You will need to register for this free event.
URL:https://caga.org/event/yoga-in-the-park-five-senses-garden/
END:VEVENT
BEGIN:VEVENT
DTSTART;TZID=America/New_York:20230808T173000
DTEND;TZID=America/New_York:20230808T183000
DTSTAMP:20260423T081649
CREATED:20230522T010220Z
LAST-MODIFIED:20230522T010220Z
UID:5759-1691515800-1691519400@caga.org
SUMMARY:Walk with a Doc - Reservoir Park
DESCRIPTION:his Walk With A Doc program is designed to provide some general health information and a moderately-paced walk around Reservoir Park and the National Civil War Museum including a portion of the Greenbelt. It will be a 1.25-mile loop walking around Reservoir Park and the National Civil War Museum on a paved roadway. Most of the walk will be flat\, but there are some slightly elevated areas. The full walk is estimated to take :30 – :45 minutes based on the pace of the walkers. \nThis walk is being organized by Penbrook Borough Walk With A Doc group\, Capital Area Greenbelt Association\, Susquehanna Township Recreation & Parks\, and Dauphin County Parks & Recreation Department. This walk is being supported as part of the Park Rx programs sponsored by Highmark Blue Shield and supported by UPMC. Registration is require for this free event.
URL:https://caga.org/event/walk-with-a-doc-reservoir-park/
END:VEVENT
BEGIN:VEVENT
DTSTART;TZID=America/New_York:20230801T180000
DTEND;TZID=America/New_York:20230801T200000
DTSTAMP:20260423T081649
CREATED:20230527T144755Z
LAST-MODIFIED:20230527T145216Z
UID:5786-1690912800-1690920000@caga.org
SUMMARY:Susquehanna Township National Night Out
DESCRIPTION:Come out and meet the Capital Area Greenbelt Association crew at this family-friendly event. National Night Out brings together police officers and community members\, especially children\, so that law enforcement is seen in a positive light. \nThe event is in the parking lot of the Susquehanna Township High School.
URL:https://caga.org/event/susquehanna-township-national-night-out/
END:VEVENT
BEGIN:VEVENT
DTSTART;TZID=America/New_York:20230715T080000
DTEND;TZID=America/New_York:20230715T170000
DTSTAMP:20260423T081649
CREATED:20230527T145505Z
LAST-MODIFIED:20230527T145505Z
UID:5791-1689408000-1689440400@caga.org
SUMMARY:Hummelstown Criterium
DESCRIPTION:The Capital Area Greenbelt Association will be at this exciting bicycle race to hand out trail maps and CAGA stickers while talking about the latest projects to improve the Capital Area Greenbelt.
URL:https://caga.org/event/hummelstown-criterium/
END:VEVENT
BEGIN:VEVENT
DTSTART;TZID=America/New_York:20230713T173000
DTEND;TZID=America/New_York:20230713T183000
DTSTAMP:20260423T081649
CREATED:20230522T005910Z
LAST-MODIFIED:20230522T005910Z
UID:5757-1689269400-1689273000@caga.org
SUMMARY:Walk with a Doc - Veterans Park Trail
DESCRIPTION:The full walk will be approximately 2 miles however\, there is an option to head back earlier if you don’t want to walk the full walk. Most of the walk will be flat\, but there are some slightly elevated areas. \nDr. Cayce Onks from Penn State Hershey Medical Center will be our doctor for this program. He specializes in Family Medicine\, and Primary Care Sports Medicine and he is an Assistant Professor\, Family and Community Medicine and Orthopaedics and Rehabilitation. Walk Topic: Managing heat while exercising outside. This walk is being organized by Penbrook Borough\, Susquehanna Township Recreation & Parks\, Capital Area Greenbelt Association\, and Dauphin County Parks & Recreation Department. This walk is being supported as part of the Park Rx program sponsored by Highmark Blue Shield through the Dauphin County Parks & Recreation Department and supported by Penn State Health. The program is free\, but registration is required.
URL:https://caga.org/event/walk-with-a-doc-veterans-park-trail/
END:VEVENT
BEGIN:VEVENT
DTSTART;TZID=America/New_York:20230610T083000
DTEND;TZID=America/New_York:20230610T130000
DTSTAMP:20260423T081649
CREATED:20230527T142953Z
LAST-MODIFIED:20230527T142953Z
UID:5784-1686385800-1686402000@caga.org
SUMMARY:DeHart Dam Day
DESCRIPTION:Capital Region Water hosts this annual event intended to help protect and celebrate our pristine water source. Opening remarks will be followed by a litter clean up – supplies will be provided. After a pizza lunch\, CRW staff will lead a tour of the DeHart property include the dam and reservoir. \nRain date is Sunday\, June 11. \nAttendance is limited to 40 people. Must be at least 8 years old to participate. \nThe event is free but registration is required. Register here.
URL:https://caga.org/event/dehart-dam-day/
END:VEVENT
BEGIN:VEVENT
DTSTART;TZID=America/New_York:20230608T173000
DTEND;TZID=America/New_York:20230608T183000
DTSTAMP:20260423T081649
CREATED:20230522T005452Z
LAST-MODIFIED:20230522T005606Z
UID:5755-1686245400-1686249000@caga.org
SUMMARY:Walk with a Doc - Wildwood Park
DESCRIPTION:The walk will be approximately 3 miles around Wildwood Lake\, but participants can choose to only walk part of the way depending on their own fitness needs. Participants will meet up outside the Olewine Nature Center and there will be a brief program by a local doctor\, Dr. Everett Hills\, before the walk. Pre-registration is required. This is a Park Rx program sponsored by Highmark Blue Shield.
URL:https://caga.org/event/walk-with-a-doc-wildwood-park/
END:VEVENT
BEGIN:VEVENT
DTSTART;TZID=America/New_York:20230423T150000
DTEND;TZID=America/New_York:20230423T170000
DTSTAMP:20260423T081649
CREATED:20230318T200504Z
LAST-MODIFIED:20230318T200504Z
UID:5618-1682262000-1682269200@caga.org
SUMMARY:CAGA Awards & Volunteer Recognition Picnic
DESCRIPTION:Join us at Fort Hunter for this casual and fun-filled event. Learn more and sign up using this link.
URL:https://caga.org/event/caga-awards-volunteer-recognition-picnic/
END:VEVENT
BEGIN:VEVENT
DTSTART;TZID=America/New_York:20230328T173000
DTEND;TZID=America/New_York:20230328T183000
DTSTAMP:20260423T081649
CREATED:20230321T003207Z
LAST-MODIFIED:20230321T003207Z
UID:5623-1680024600-1680028200@caga.org
SUMMARY:Walk with a Doc - Peace Garden on Riverfront
DESCRIPTION:Dr. Bob Little will lead the walk from City Island along Riverfront to the Peace Garden. This is a Dauphin County Park Rx program sponsored by Highmark Blue Shield. Sign up is through Dauphin County Parks and Rec using this link.
URL:https://caga.org/event/walk-with-a-doc-peace-garden-on-riverfront/
END:VEVENT
BEGIN:VEVENT
DTSTART;TZID=America/New_York:20230327T080000
DTEND;TZID=America/New_York:20230327T170000
DTSTAMP:20260423T081649
CREATED:20230327T215504Z
LAST-MODIFIED:20230327T215504Z
UID:5635-1679904000-1679936400@caga.org
SUMMARY:Rescheduled Greenbelt Cameron Parkway Hillside/Mountain Bike Trail Cleanup
DESCRIPTION:Originally scheduled for March 25\, a rainy forecast forced the event to be rescheduled to April 1 – no foolin’!\nThe CAGA and the Susquehanna Area Mountain Bike Association (SAMBA) are teaming up to clean up the hillsides of the Greenbelt corridor adjacent to the 13th Street and Cloverly Terrace along the Cameron Parkway in Harrisburg. For details and registration\, click this link.
URL:https://caga.org/event/rescheduled-greenbelt-cameron-parkway-hillside-mountain-bike-trail-cleanup/
END:VEVENT
BEGIN:VEVENT
DTSTART;TZID=America/New_York:20230325T090000
DTEND;TZID=America/New_York:20230325T130000
DTSTAMP:20260423T081649
CREATED:20230318T200124Z
LAST-MODIFIED:20230318T201307Z
UID:5616-1679734800-1679749200@caga.org
SUMMARY:Cameron Parkway Hillside/Mountain Bike Trail Cleanup
DESCRIPTION:We are looking for hearty volunteers willing to climb the hillside to assist with this event. We have scheduled four hours for this first cleanup. If you only have two hours to give\, you are still welcome but please arrive at 9 am. Get all the details and sign up by clicking this link.
URL:https://caga.org/event/cameron-parkway-hillside-mountain-bike-trail-cleanup/
END:VEVENT
BEGIN:VEVENT
DTSTART;TZID=America/New_York:20230324T100000
DTEND;TZID=America/New_York:20230324T130000
DTSTAMP:20260423T081649
CREATED:20230225T164531Z
LAST-MODIFIED:20230306T220337Z
UID:5484-1679652000-1679662800@caga.org
SUMMARY:South Cameron to Reservoir Park Cleanup
DESCRIPTION:This is a pretty long stretch of the Greenbelt\, so we have four different meeting location where work will start from. Get all the details and sign up by clicking this link.
URL:https://caga.org/event/south-cameron-to-reservoir-park-cleanup/
END:VEVENT
BEGIN:VEVENT
DTSTART;TZID=America/New_York:20230320T080000
DTEND;TZID=America/New_York:20230320T170000
DTSTAMP:20260423T081649
CREATED:20230321T004436Z
LAST-MODIFIED:20230321T004436Z
UID:5625-1679299200-1679331600@caga.org
SUMMARY:Walk with a Doc - Penbrook
DESCRIPTION:The walk will cover 2.5 miles starting at Penbrook Community Park. Because it is an out-and-back walk\, you can tailor your participation to your fitness needs. Walk leader is Dr. Dan Hinnerschitz\, a physical therapist with Madden and Gilbert Physical Therapy. This is a Dauphin County Park Rx series program sponsored by Highmark Blue Shield. Sign up using this link.
URL:https://caga.org/event/walk-with-a-doc-penbrook/
END:VEVENT
BEGIN:VEVENT
DTSTART;TZID=America/New_York:20230318T093000
DTEND;TZID=America/New_York:20230318T120000
DTSTAMP:20260423T081649
CREATED:20230225T165213Z
LAST-MODIFIED:20230315T002000Z
UID:5488-1679131800-1679140800@caga.org
SUMMARY:Paxtang Parkway Planting
DESCRIPTION:We’re harvesting\, preparing\, and planting  live stakes in the riparian buffer along the Paxtang Parkway – the section of the Greenbelt that runs from Derry Street toward Reservoir Park. For details and to sign up\, click this link.
URL:https://caga.org/event/paxtang-parkway-planting/
END:VEVENT
BEGIN:VEVENT
DTSTART;TZID=America/New_York:20230311T100000
DTEND;TZID=America/New_York:20230311T130000
DTSTAMP:20260423T081649
CREATED:20230225T152543Z
LAST-MODIFIED:20230225T171307Z
UID:5481-1678528800-1678539600@caga.org
SUMMARY:Industrial Road Cleanup
DESCRIPTION:Our annual Industrial Road cleanup is led by Dauphin County Parks and Recreation. This Greenbelt section has the most trash\, and we need many volunteers. Dauphin County is handling volunteer registration for this cleanup. Sign up using this link.
URL:https://caga.org/event/industrial-road-cleanup/
END:VEVENT
BEGIN:VEVENT
DTSTART;TZID=America/New_York:20221208T173000
DTEND;TZID=America/New_York:20221208T183000
DTSTAMP:20260423T081649
CREATED:20220831T224947Z
LAST-MODIFIED:20220831T224947Z
UID:4825-1670520600-1670524200@caga.org
SUMMARY:Walk with a Doc - Walking with Balance
DESCRIPTION:The last Walk with a Doc in 2022 features Dr. Everett Hills. Meet up spot is Linglestown Square. Enjoy the holiday lights as you learn to walk with balance. This free event is sponsored by Dauphin County Parks and Recreation. Pre-registration is required.
URL:https://caga.org/event/walk-with-a-doc-walking-with-balance/
END:VEVENT
BEGIN:VEVENT
DTSTART;TZID=America/New_York:20221206T180000
DTEND;TZID=America/New_York:20221206T200000
DTSTAMP:20260423T081649
CREATED:20220504T211230Z
LAST-MODIFIED:20220504T211230Z
UID:4678-1670349600-1670356800@caga.org
SUMMARY:Capital Area Greenbelt Association Annual Membership Meeting
DESCRIPTION:The membership meeting is a chance to learn about our 2022 accomplishments and find out what’s ahead in 2023. You can also meet the board and share your ideas for how we can make the Greenbelt even better!
URL:https://caga.org/event/capital-area-greenbelt-association-annual-membership-meeting/
END:VEVENT
BEGIN:VEVENT
DTSTART;TZID=America/New_York:20221105T100000
DTEND;TZID=America/New_York:20221105T110000
DTSTAMP:20260423T081649
CREATED:20220831T224806Z
LAST-MODIFIED:20220831T224806Z
UID:4823-1667642400-1667646000@caga.org
SUMMARY:Walk with a Doc - Topic TBD
DESCRIPTION:The Dauphin County Parks and Recreation’s Walk with a Doc series continues with this one-hour walk with Dr. Bob Little on Veterans Park Trail in Susquehanna Township. The event is free\, but pre-registration is required.
URL:https://caga.org/event/walk-with-a-doc-topic-tbd/
END:VEVENT
BEGIN:VEVENT
DTSTART;TZID=America/New_York:20221008T100000
DTEND;TZID=America/New_York:20221008T110000
DTSTAMP:20260423T081649
CREATED:20220831T224635Z
LAST-MODIFIED:20220831T224635Z
UID:4821-1665223200-1665226800@caga.org
SUMMARY:Walk with a Doc - Stroke Prevention
DESCRIPTION:Join Dr. Ramin Zand and Cesar Velasco for this one-hour stroll through Wildwood Park. Sponsored by Dauphin County Parks and Recreation\, the event is free\, but pre-registration is required.
URL:https://caga.org/event/walk-with-a-doc-stroke-prevention/
END:VEVENT
BEGIN:VEVENT
DTSTART;TZID=America/New_York:20220924T110000
DTEND;TZID=America/New_York:20220924T160000
DTSTAMP:20260423T081649
CREATED:20220428T230025Z
LAST-MODIFIED:20220428T231953Z
UID:4634-1664017200-1664035200@caga.org
SUMMARY:Celebrate Wildwood
DESCRIPTION:Stop by to pick up some Capital Area Greenbelt Association stickers to show your support of one of the region’s true treasures. Kids can become instant Greenbelt Superheroes!
URL:https://caga.org/event/celebrate-wildwood/
END:VEVENT
BEGIN:VEVENT
DTSTART;TZID=America/New_York:20220907T173000
DTEND;TZID=America/New_York:20220907T183000
DTSTAMP:20260423T081649
CREATED:20220831T224413Z
LAST-MODIFIED:20220831T224413Z
UID:4818-1662571800-1662575400@caga.org
SUMMARY:Walk with a Doc - Turning Your Walk Into a Workout
DESCRIPTION:You’re invited to Walk with a Doc in this edition of the ongoing wellness series sponsored by Dauphin County Parks and Recreation. Dr. Christine Brussock will give tips for turning your walk into a workout. This free event will be held at Boyd’s Big Tree Preserve; pre-registration is required.
URL:https://caga.org/event/walk-with-a-doc-turning-your-walk-into-a-workout/
END:VEVENT
BEGIN:VEVENT
DTSTART;TZID=America/New_York:20220802T180000
DTEND;TZID=America/New_York:20220802T200000
DTSTAMP:20260423T081649
CREATED:20220428T225340Z
LAST-MODIFIED:20220428T225340Z
UID:4632-1659463200-1659470400@caga.org
SUMMARY:Susquehanna Township's National Night Out Celebration
DESCRIPTION:Come by our table at this event that celebrates community. Pick up some Capital Area Greenbelt Association swag and learn about the Greenbelt trail and how you can help maintain and improve it. Youngsters can become Greenbelt Superheroes!
URL:https://caga.org/event/susquehanna-townships-national-night-out-celebration/
END:VEVENT
BEGIN:VEVENT
DTSTART;TZID=America/New_York:20220615T173000
DTEND;TZID=America/New_York:20220615T183000
DTSTAMP:20260423T081649
CREATED:20220607T005201Z
LAST-MODIFIED:20220607T005201Z
UID:4747-1655314200-1655317800@caga.org
SUMMARY:Walk with a Doc - Mental Health
DESCRIPTION:As part of Dauphin County Parks and Recreation’s Walk with a Doc series\, Dr. Bob Little will start his walk-and-talk in the Five Senses Garden – parking available in the lot on Rt. 441. The walk is free\, but pre-registration is required.
URL:https://caga.org/event/walk-with-a-doc-mental-health/
END:VEVENT
BEGIN:VEVENT
DTSTART;TZID=America/New_York:20220605T090000
DTEND;TZID=America/New_York:20220605T140000
DTSTAMP:20260423T081649
CREATED:20220428T233758Z
LAST-MODIFIED:20220429T001120Z
UID:4642-1654419600-1654437600@caga.org
SUMMARY:Tour de Belt & Finish Line Fest
DESCRIPTION:Join us for the return of our in-person signature fundraising event\, the Tour de Belt. Enjoy the 20-mile bike ride around Harrisburg and through surrounding communities\, then stay for our brand new Finish Line Fest. Register here.
URL:https://caga.org/event/tour-de-belt-finish-line-fest/
END:VEVENT
BEGIN:VEVENT
DTSTART;TZID=America/New_York:20220529T080000
DTEND;TZID=America/New_York:20220604T170000
DTSTAMP:20260423T081649
CREATED:20220428T224549Z
LAST-MODIFIED:20220429T000103Z
UID:4630-1653811200-1654362000@caga.org
SUMMARY:Tour de Belt Your Way
DESCRIPTION:Bike\, walk or run the 20-mile loop at your own pace and distance anytime between Sunday\, May 29 and Saturday\, June 4. Register here to get your specially designed Tour de Belt 2022 performance jersey. Note: The registration link will state Sunday\, June 5. This is the correct link to register to complete the Tour de Belt Your Way.
URL:https://caga.org/event/tour-de-belt-your-way/
END:VEVENT
BEGIN:VEVENT
DTSTART;TZID=America/New_York:20220514T180000
DTEND;TZID=America/New_York:20220514T210000
DTSTAMP:20260423T081649
CREATED:20220428T223605Z
LAST-MODIFIED:20220428T223605Z
UID:4628-1652551200-1652562000@caga.org
SUMMARY:Harrisburg Senators Community Organization of the Game
DESCRIPTION:Stop by and see us on the concourse at FNB Field! We’re proud to be the Senators Community Organization of the Game. We’ll be handing out Capital Area Greenbelt Association swag at our booth\, and encouraging young fans to take our quiz to be a Greenbelt Superhero!
URL:https://caga.org/event/harrisburg-senators-community-organization-of-the-game/
END:VEVENT
BEGIN:VEVENT
DTSTART;TZID=America/New_York:20220204T180000
DTEND;TZID=America/New_York:20220204T203000
DTSTAMP:20260423T081649
CREATED:20211217T023318Z
LAST-MODIFIED:20211217T023318Z
UID:4254-1643997600-1644006600@caga.org
SUMMARY:2022 Annual Awards Dinner
DESCRIPTION:Please join us for the Annual Awards Dinner \nJoin us as we celebrate CAGA’s 2021 accomplishments and thank the hardworking volunteers of the Greenbelt and recognize the outstanding volunteers and supporters who have made major impacts throughout the year. \nRSVP by January 25\, 2022
URL:https://caga.org/event/2022-annual-awards-dinner/
LOCATION:Best Western Premier – The Central Hotel Harrisburg\, 800 East Park Drive\, Harrisburg\, PA\, United States
ORGANIZER;CN="CAGA":MAILTO:Caga@caga.org
END:VEVENT
BEGIN:VEVENT
DTSTART;VALUE=DATE:20210529
DTEND;VALUE=DATE:20210607
DTSTAMP:20260423T081649
CREATED:20210220T135051Z
LAST-MODIFIED:20210220T140521Z
UID:3928-1622246400-1623023999@caga.org
SUMMARY:Save the Date - 2021 Tour de Belt
DESCRIPTION:Mark your calendar now. The 2021 Tour de Belt is planned for June 6th with a series of socially distant events leading up to the big ride.
URL:https://caga.org/event/3928/
LOCATION:Greenbelt\, Harrisburg\, PA\, United States
END:VEVENT
BEGIN:VEVENT
DTSTART;TZID=America/New_York:20210205T180000
DTEND;TZID=America/New_York:20210205T190000
DTSTAMP:20260423T081649
CREATED:20210117T191830Z
LAST-MODIFIED:20210121T173942Z
UID:3896-1612548000-1612551600@caga.org
SUMMARY:2021 Capital Area Greenbelt Association Awards Celebration
DESCRIPTION: \n\n\n\n\n\n\n\n\n\n\n\nEvery year\, the Capital Area Greenbelt Association holds an annual awards dinner to celebrate the exceptional work done by groups of individuals on the Greenbelt. This year\, we are going to Celebrate Apart Together. While we are not able to gather in person\, this provides all Greenbelt members\, users\, and supporters an opportunity to join us for an hour and toast our 2020 exceptional volunteers.  \n\n\n\n\n\n\n\n\n\n\n\n\n\n\n\nThree Ways to Join the Zoom Meeting:  \n\n\n\n\nFollow This Link: https://us02web.zoom.us/j/87661959176?pwd=UVZYKzBIM1JRVWJiWmFaR2FZUWlLZz09 Meeting ID: 876 6195 9176 Passcode: 581578\n\n\n\n\n\n\n\nOne Tap Mobile Zoom: +16465588656\,\,87661959176#\,\,\,\,*581578# US (New York)\nDial By Your Location- Phone Conference: +1 646 558 8656 US (New York) Meeting ID: 876 6195 9176 Passcode: 581578 Find your local number:  https://us02web.zoom.us/u/keCyCgclUU\n\nFor more info\, see our post\, https://caga.org/2021-capital-area-greenbelt-association-awards-celebration/ \n 
URL:https://caga.org/event/2021-capital-area-greenbelt-association-awards-celebration/
LOCATION:Zoom
ORGANIZER;CN="CAGA":MAILTO:Caga@caga.org
END:VEVENT
BEGIN:VEVENT
DTSTART;TZID=America/New_York:20201118T180000
DTEND;TZID=America/New_York:20201118T193000
DTSTAMP:20260423T081649
CREATED:20200929T212942Z
LAST-MODIFIED:20200929T212942Z
UID:3873-1605722400-1605727800@caga.org
SUMMARY:CAGA Annual Meeting
DESCRIPTION:The Capital Area Greenbelt Association invites you to join us for our 2020 annual meeting. We’re getting together virtually to share the successes of 2020 and share plans for the future. Details and sign-up will be coming soon to this page. Check back soon.
URL:https://caga.org/event/caga-annual-meeting/
ORGANIZER;CN="CAGA":MAILTO:Caga@caga.org
END:VEVENT
END:VCALENDAR