BEGIN:VCALENDAR
VERSION:2.0
PRODID:-//Capital Area Greenbelt Association - ECPv6.15.20//NONSGML v1.0//EN
CALSCALE:GREGORIAN
METHOD:PUBLISH
X-ORIGINAL-URL:https://caga.org
X-WR-CALDESC:Events for Capital Area Greenbelt Association
REFRESH-INTERVAL;VALUE=DURATION:PT1H
X-Robots-Tag:noindex
X-PUBLISHED-TTL:PT1H
BEGIN:VTIMEZONE
TZID:America/New_York
BEGIN:DAYLIGHT
TZOFFSETFROM:-0500
TZOFFSETTO:-0400
TZNAME:EDT
DTSTART:20170312T070000
END:DAYLIGHT
BEGIN:STANDARD
TZOFFSETFROM:-0400
TZOFFSETTO:-0500
TZNAME:EST
DTSTART:20171105T060000
END:STANDARD
BEGIN:DAYLIGHT
TZOFFSETFROM:-0500
TZOFFSETTO:-0400
TZNAME:EDT
DTSTART:20180311T070000
END:DAYLIGHT
BEGIN:STANDARD
TZOFFSETFROM:-0400
TZOFFSETTO:-0500
TZNAME:EST
DTSTART:20181104T060000
END:STANDARD
BEGIN:DAYLIGHT
TZOFFSETFROM:-0500
TZOFFSETTO:-0400
TZNAME:EDT
DTSTART:20190310T070000
END:DAYLIGHT
BEGIN:STANDARD
TZOFFSETFROM:-0400
TZOFFSETTO:-0500
TZNAME:EST
DTSTART:20191103T060000
END:STANDARD
END:VTIMEZONE
BEGIN:VEVENT
DTSTART;TZID=America/New_York:20181101T120000
DTEND;TZID=America/New_York:20181101T130000
DTSTAMP:20260423T144926
CREATED:20181007T202118Z
LAST-MODIFIED:20181007T202118Z
UID:2915-1541073600-1541077200@caga.org
SUMMARY:CAGA membership committee
DESCRIPTION:The first Thursday of the month the committee has a phone conference for 1 hr.  Michael Shaull\, committee chair\,  sets the agenda.  A report of the meeting is submitted to the secretary prior to the Board meeting. \nCAGA members are welcome to join the committee.  Contact Michael Shaull if interested via email:  meshaull@hotmail.com
URL:https://caga.org/event/caga-membership-committee/
LOCATION:Phone conference
ORGANIZER;CN="Michael Shaull":MAILTO:Meshaull@hotmail.com
END:VEVENT
BEGIN:VEVENT
DTSTART;TZID=America/New_York:20181030T100000
DTEND;TZID=America/New_York:20181030T110000
DTSTAMP:20260423T144926
CREATED:20181011T140234Z
LAST-MODIFIED:20181011T140234Z
UID:2928-1540893600-1540897200@caga.org
SUMMARY:Groundbreaking: Ft Hunter Extension
DESCRIPTION:This long awaited event will begin work on the extension of the Capital Area Greenbelt into a new neighborhood improving the safety of the users of the Greenbelt.
URL:https://caga.org/event/groundbreaking-ft-hunter-extension/
LOCATION:Ft Hunter’s Heckton Church\, 5260 North Front St\, Harrisburg \, PA\, 17110\, United States
END:VEVENT
BEGIN:VEVENT
DTSTART;TZID=America/New_York:20181017T060000
DTEND;TZID=America/New_York:20181017T200000
DTSTAMP:20260423T144926
CREATED:20180906T020451Z
LAST-MODIFIED:20180906T020451Z
UID:2880-1539756000-1539806400@caga.org
SUMMARY:Board of Directors meeting
DESCRIPTION:open to the public
URL:https://caga.org/event/board-of-directors-meeting-6/
LOCATION:Giant on Linglestown Road\, 2300 Linglestown Rd\, Harrisburg\, PA\, 17110\, United States
ORGANIZER;CN="CAGA":MAILTO:Caga@caga.org
END:VEVENT
BEGIN:VEVENT
DTSTART;TZID=America/New_York:20180930T130000
DTEND;TZID=America/New_York:20180930T150000
DTSTAMP:20260423T144926
CREATED:20180814T195247Z
LAST-MODIFIED:20180814T200254Z
UID:2847-1538312400-1538319600@caga.org
SUMMARY:PA Trails Month - Greenbelt Bike Ride
DESCRIPTION:September is PA Trails month. CAGA has scheduled a Greenbelt Ride every Sunday in September (2\, 9\, 16; 23\, 30) to celebrate Trails Month and the region’s awesome close to home\, connected trail. Al rides start at 1:00 p.m. Intersected riders should meet at the entrance to the Greenbelt behind the City Line Diner on Derry St. It is a great way to ride the Greenbelt for the first time. Check out the many improvements underway at key intersections and the recently paved Industrial Rd. Ride about 19 miles with an avg speed of 9-11 mph and frequent stops. No rider is dropped. Bike helmets are required. Bike should be in working order and bring water to drink. \nPrides will be lead by trained ride leaders. No registration is required. Updates will be posted on FB due to any weather alerts. Inclement weather can cancel rides.
URL:https://caga.org/event/greenbelt-bike-ride-4/
LOCATION:Derry St trailhead\, 3302 Derry St\, harrisburg\, PA\, 17111\, United States
END:VEVENT
BEGIN:VEVENT
DTSTART;TZID=America/New_York:20180923T130000
DTEND;TZID=America/New_York:20180923T150000
DTSTAMP:20260423T144926
CREATED:20180814T194930Z
LAST-MODIFIED:20180814T200146Z
UID:2845-1537707600-1537714800@caga.org
SUMMARY:PA Trails Month - Greenbelt Bike Ride
DESCRIPTION:September is PA Trails month. CAGA has scheduled a Greenbelt Ride every Sunday in September (2\, 9\, 16; 23\, 30) to celebrate Trails Month and the region’s awesome close to home\, connected trail. Al rides start at 1:00 p.m. Intersected riders should meet at the entrance to the Greenbelt behind the City Line Diner on Derry St. It is a great way to ride the Greenbelt for the first time. Check out the many improvements underway at key intersections and the recently paved Industrial Rd. Ride about 19 miles with an avg speed of 9-11 mph and frequent stops. No rider is dropped. Bike helmets are required. Bike should be in working order and bring water to drink. \nPrides will be lead by trained ride leaders. No registration is required. Updates will be posted on FB due to any weather alerts. Inclement weather can cancel rides.
URL:https://caga.org/event/greenbelt-bike-ride-3/
LOCATION:Derry St trailhead\, 3302 Derry St\, harrisburg\, PA\, 17111\, United States
END:VEVENT
BEGIN:VEVENT
DTSTART;TZID=America/New_York:20180919T180000
DTEND;TZID=America/New_York:20180919T200000
DTSTAMP:20260423T144926
CREATED:20180906T020019Z
LAST-MODIFIED:20180906T020019Z
UID:2877-1537380000-1537387200@caga.org
SUMMARY:Board of Directors meeting
DESCRIPTION:open to the public
URL:https://caga.org/event/board-of-directors-meeting-5/
LOCATION:Giant on Linglestown Road\, 2300 Linglestown Rd\, Harrisburg\, PA\, 17110\, United States
ORGANIZER;CN="CAGA":MAILTO:Caga@caga.org
END:VEVENT
BEGIN:VEVENT
DTSTART;TZID=America/New_York:20180916T130000
DTEND;TZID=America/New_York:20180916T150000
DTSTAMP:20260423T144926
CREATED:20180814T194520Z
LAST-MODIFIED:20180814T200051Z
UID:2842-1537102800-1537110000@caga.org
SUMMARY:PA Trails Month - Greenbelt Bike Ride
DESCRIPTION:September is PA Trails month. CAGA has scheduled a Greenbelt Ride every Sunday in September (2\, 9\, 16; 23\, 30) to celebrate Trails Month and the region’s awesome close to home\, connected trail. Al rides start at 1:00 p.m. Intersected riders should meet at the entrance to the Greenbelt behind the City Line Diner on Derry St. It is a great way to ride the Greenbelt for the first time. Check out the many improvements underway at key intersections and the recently paved Industrial Rd. Ride about 19 miles with an avg speed of 9-11 mph and frequent stops. No rider is dropped. Bike helmets are required. Bike should be in working order and bring water to drink. \nPrides will be lead by trained ride leaders. No registration is required. Updates will be posted on FB due to any weather alerts. Inclement weather can cancel rides.
URL:https://caga.org/event/greenbelt-bike-ride-2/
LOCATION:Derry St trailhead\, 3302 Derry St\, harrisburg\, PA\, 17111\, United States
END:VEVENT
BEGIN:VEVENT
DTSTART;TZID=America/New_York:20180909T130000
DTEND;TZID=America/New_York:20180909T150000
DTSTAMP:20260423T144926
CREATED:20180814T193112Z
LAST-MODIFIED:20180909T144736Z
UID:2838-1536498000-1536505200@caga.org
SUMMARY:PA Trails Month - Greenbelt Bike Ride-CANCELLED
DESCRIPTION:September is PA Trails month. CAGA has scheduled a Greenbelt Ride every Sunday in September (2\, 9\, 16; 23\, 30) to celebrate Trails Month and the region’s awesome close to home\, connected trail. Al rides start at 1:00 p.m. Intersected riders should meet at the entrance to the Greenbelt behind the City Line Diner on Derry St. It is a great way to ride the Greenbelt for the first time. Check out the many improvements underway at key intersections and the recently paved Industrial Rd. Ride about 19 miles with an avg speed of 9-11 mph and frequent stops. No rider is dropped. Bike helmets are required. Bike should be in working order and bring water to drink. \nPrides will be lead by trained ride leaders. No registration is required. Updates will be posted on FB due to any weather alerts. Inclement weather can cancel rides.
URL:https://caga.org/event/greenbelt-bike-ride/
LOCATION:Derry St trailhead\, 3302 Derry St\, harrisburg\, PA\, 17111\, United States
END:VEVENT
BEGIN:VEVENT
DTSTART;TZID=America/New_York:20180902T130000
DTEND;TZID=America/New_York:20180902T150000
DTSTAMP:20260423T144926
CREATED:20180814T193924Z
LAST-MODIFIED:20180814T193924Z
UID:2834-1535893200-1535900400@caga.org
SUMMARY:PA Trails Month - Greenbelt Bike Ride
DESCRIPTION:September is PA Trails month.  CAGA has scheduled a Greenbelt Ride every Sunday in September (2\, 9\, 16; 23\, 30) to celebrate Trails Month and the region’s awesome close to home\, connected trail.  Al rides start at 1:00 p.m.  Intersected riders should meet at the entrance to the Greenbelt behind the City Line Diner on Derry St.  It is a great way to ride the Greenbelt for the first time. Check out the many improvements underway at key intersections and the recently paved Industrial Rd.  Ride about 19 miles with an avg speed of 9-11 mph and frequent stops. No rider is dropped.  Bike helmets are required.  Bike should be in working order and bring water to drink. \nPrides will be lead by trained ride leaders.  No registration is required. Updates will be posted on FB due to any weather alerts.  Inclement weather can cancel rides.
URL:https://caga.org/event/pa-trails-month-greenbelt-bike-ride/
LOCATION:Derry St trailhead\, 3302 Derry St\, harrisburg\, PA\, 17111\, United States
ORGANIZER;CN="Cindy Hogeman":MAILTO:chgeman@gmail.com
END:VEVENT
BEGIN:VEVENT
DTSTART;TZID=America/New_York:20180722T140000
DTEND;TZID=America/New_York:20180722T160000
DTSTAMP:20260423T144926
CREATED:20160607T125819Z
LAST-MODIFIED:20180321T171950Z
UID:1974-1532268000-1532275200@caga.org
SUMMARY:Hospice Butterfly Release
DESCRIPTION:Five Senses Garden Annual Butterfly Release sponsored by the Hospice of Central Pennsylvania.
URL:https://caga.org/event/hospice-butterfly-release/
LOCATION:Five Senses Garden\, Greenbelt Crossing at 441\, Harrisburg\, United States
END:VEVENT
BEGIN:VEVENT
DTSTART;TZID=America/New_York:20180603T090000
DTEND;TZID=America/New_York:20180603T140000
DTSTAMP:20260423T144926
CREATED:20161010T173023Z
LAST-MODIFIED:20180305T231039Z
UID:2013-1528016400-1528034400@caga.org
SUMMARY:Tour de Belt
DESCRIPTION:Register by check\, cash or credit card the day of the event. \nThe Capital Area Greenbelt Association (CAGA) will be hosting the 18th annual Tour de Belt on the Capital Area Greenbelt.  The Ride will follow the Greenbelt – a century-old system of parks and open spaces connected by a 20-mile trail.  Starting and ending at HACC-Harrisburg Campus\, riders of all ages can participate in a family friendly event that travels through the City of Harrisburg\, Paxtang and Penbrook Boroughs\, and Susquehanna and Swatara townships.  This is not a race.  Participants will ride through picturesque natural areas including Wildwood Lake and special places like the beautiful Five Senses Gardens and the Martin Luther King Memorial. \nParticipants receive lunch and a t-shirt and can enjoy post ride activities. All proceeds raised from the Tour de Belt will be used for the restoration and continued maintenance of this iconic park and trail system.  The Capital Area Greenbelt Association is an all-volunteer 501(c)(3) non-profit corporation dedicated to the continued preservation\, enhancement and promotion of the Greenbelt.  Volunteers provide over 6\,000 hours annually maintaining the trail\, caring for the surrounding landscape through native planting and invasive species removal\, and developing and overseeing trail extension projects.  Over $6 million has been raised to improve trail crossings at busy intersections\, repair older trail sections and extend the trail to Fort Hunter in 2018.
URL:https://caga.org/event/2018/
LOCATION:Starts and Ends at HACC\, Harrisburg\, PA\, 17110\, United States
END:VEVENT
BEGIN:VEVENT
DTSTART;VALUE=DATE:20180602
DTEND;VALUE=DATE:20180604
DTSTAMP:20260423T144926
CREATED:20180221T155551Z
LAST-MODIFIED:20180501T133712Z
UID:2356-1527897600-1528070399@caga.org
SUMMARY:Greenbelt Weekend
DESCRIPTION:Enjoy a walk\, bird watch\, multiple various bike rides both days of the weekend….and more! \nGreenbelt weekend poster….click here.  One page schedule….click here
URL:https://caga.org/event/green-belt-weekend/
END:VEVENT
BEGIN:VEVENT
DTSTART;VALUE=DATE:20180517
DTEND;VALUE=DATE:20180518
DTSTAMP:20260423T144926
CREATED:20180305T171606Z
LAST-MODIFIED:20180321T170502Z
UID:2459-1526515200-1526601599@caga.org
SUMMARY:Late TDB registration begins
DESCRIPTION:register up until the event.
URL:https://caga.org/event/late-tdb-registration-begins/
LOCATION:HACC main campus\, 1 HACC Drive\, Harrisburg\, PA\, 17110\, United States
END:VEVENT
BEGIN:VEVENT
DTSTART;TZID=America/New_York:20180516T180000
DTEND;TZID=America/New_York:20180516T200000
DTSTAMP:20260423T144926
CREATED:20180225T024612Z
LAST-MODIFIED:20180225T024612Z
UID:2409-1526493600-1526500800@caga.org
SUMMARY:Board of Directors meeting
DESCRIPTION:6-8 pm\, Giant Foods Community Room\, Linglestown Rd
URL:https://caga.org/event/board-of-directors-meeting-4/
LOCATION:Giant on Linglestown Road\, 2300 Linglestown Rd\, Harrisburg\, PA\, 17110\, United States
END:VEVENT
BEGIN:VEVENT
DTSTART;TZID=America/New_York:20180428T100000
DTEND;TZID=America/New_York:20180428T160000
DTSTAMP:20260423T144926
CREATED:20180305T024221Z
LAST-MODIFIED:20180321T170546Z
UID:2427-1524909600-1524931200@caga.org
SUMMARY:Wildwood Park Wetlands Festival
DESCRIPTION:Celebrate Wildwood Park’s wetlands
URL:https://caga.org/event/wildwood-park-wetlands-festival/
LOCATION:Wildwood Park\, 100 Wildwood Way\, Harrisburg\, PA\, United States
END:VEVENT
BEGIN:VEVENT
DTSTART;TZID=America/New_York:20180421T090000
DTEND;TZID=America/New_York:20180421T150000
DTSTAMP:20260423T144926
CREATED:20180225T023701Z
LAST-MODIFIED:20180321T170622Z
UID:2402-1524301200-1524322800@caga.org
SUMMARY:Diakon Native Plant Sale
DESCRIPTION:9am-3pm\, Diakon Wilderness Nursery\, partnered with Appalachian Audubon to sell plants to benefit birds.  To help with sale and activities: gardnie07@gmail.com.
URL:https://caga.org/event/diakon-native-plant-sale/
LOCATION:Diakon Wilderness Center\, 571 Mountain Rd\, Boiling Springs\, PA\, United States
END:VEVENT
BEGIN:VEVENT
DTSTART;TZID=America/New_York:20180421T090000
DTEND;TZID=America/New_York:20180421T130000
DTSTAMP:20260423T144926
CREATED:20180314T195819Z
LAST-MODIFIED:20180410T021549Z
UID:2570-1524301200-1524315600@caga.org
SUMMARY:Great Harrisburg Clean-up
DESCRIPTION:East Harrisburg Cemetery. Herr St.  Tire pick up.  9am – 1 pm.  Rain or shine.\nAdditional locations to be announced soon.
URL:https://caga.org/event/great-harrisburg-clean-up/
LOCATION:various
END:VEVENT
BEGIN:VEVENT
DTSTART;TZID=America/New_York:20180421T090000
DTEND;TZID=America/New_York:20180421T130000
DTSTAMP:20260423T144926
CREATED:20180221T154536Z
LAST-MODIFIED:20180410T014155Z
UID:2350-1524301200-1524315600@caga.org
SUMMARY:Earth Day
DESCRIPTION:The Great Harrisburg Cleanup:  \nHarrisburg East Cemetery: Tire removal.  Pick up 9am-1pm rain or shine.  Directions: From Parkway Drive\, cross Herr St.  Parkway drive becomes Edgemont Rd after it crosses Herr St.  Turn into the Cemetery from Edgemont Rd.  Drive straight ahead.  Tires on left prior to the curve on the edge of the cemetery.\nFive Senses Garden (Rt 441 behind Dauphin Co Prison). 9am-1pm.  Bring gloves.\nFor more information call MaryAnn Furedi\, 717-579-0600.\nRotary Club tree planting:\nStarting at the 19th St parking lot.  30 trees.  9:00 am.
URL:https://caga.org/event/earth-day/
END:VEVENT
BEGIN:VEVENT
DTSTART;TZID=America/New_York:20180420T120000
DTEND;TZID=America/New_York:20180420T160000
DTSTAMP:20260423T144926
CREATED:20180314T195625Z
LAST-MODIFIED:20180410T014753Z
UID:2566-1524225600-1524240000@caga.org
SUMMARY:Highmark Employee Litter Cleanup
DESCRIPTION:noon-4pm. Rain or shine. Volunteers will focus litter cleanup efforts along the south end of the Greenbelt between S. Cameron St and Paxton St.  Work gloves and bags will be provided.  Long sleeves and long pants are suggested to avoid tick and poison ivy exposure.  Please contact Mike Shaull to volunteer or for more information.  meshaull@hotmail.com
URL:https://caga.org/event/highmark-litter-cleanup/
LOCATION:CAGA shed at Cameron and Elliot Sts\, Harrisburg\, PA
END:VEVENT
BEGIN:VEVENT
DTSTART;TZID=America/New_York:20180418T180000
DTEND;TZID=America/New_York:20180418T200000
DTSTAMP:20260423T144926
CREATED:20180408T124522Z
LAST-MODIFIED:20180411T203413Z
UID:2638-1524074400-1524081600@caga.org
SUMMARY:Paxton Creek Watershed Event-Greening of our Cities. Thomas Hylton speaks
DESCRIPTION:Paxton Creek Watershed Education Association is hosting a presentation by Thomas Hylton\, a Pulitzer Prize winning journalist.  Hear him present the benefits of Greening of our Cities. \nWhere:  Behind the Abbey Bar at the Appalachian Brewing Company.  6-8 pm Free.  Open to the public.  50 N. Cameron St. Harrisburg. \nhttps://caga.org/wp-content/uploads/2018/04/ThomasHyltonFlyer-REV-3-31-183392.pdf \n 
URL:https://caga.org/event/paxton-creek-watershed-event/
LOCATION:Paxton Creek Watershed Education Association
END:VEVENT
BEGIN:VEVENT
DTSTART;TZID=America/New_York:20180418T180000
DTEND;TZID=America/New_York:20180418T200000
DTSTAMP:20260423T144926
CREATED:20180225T024310Z
LAST-MODIFIED:20180225T024310Z
UID:2407-1524074400-1524081600@caga.org
SUMMARY:Board of Directors Meeting
DESCRIPTION:6-8 pm\, Giant Foods Community Room\, Linglestown Rd
URL:https://caga.org/event/board-of-directors-meeting-3/
LOCATION:Giant on Linglestown Road\, 2300 Linglestown Rd\, Harrisburg\, PA\, 17110\, United States
END:VEVENT
BEGIN:VEVENT
DTSTART;TZID=America/New_York:20180408T140000
DTEND;TZID=America/New_York:20180408T160000
DTSTAMP:20260423T144926
CREATED:20180314T194718Z
LAST-MODIFIED:20180321T172056Z
UID:2558-1523196000-1523203200@caga.org
SUMMARY:Penbrook Leos Litter Cleanup
DESCRIPTION:
URL:https://caga.org/event/penbrook-leos-litter-cleanup/
LOCATION:Penbrook Community Park Pavilion
END:VEVENT
BEGIN:VEVENT
DTSTART;TZID=America/New_York:20180403T130000
DTEND;TZID=America/New_York:20180403T160000
DTSTAMP:20260423T144926
CREATED:20180314T195304Z
LAST-MODIFIED:20180314T195304Z
UID:2562-1522760400-1522771200@caga.org
SUMMARY:Philadelphia Insurance Company Litter Clean-up
DESCRIPTION:
URL:https://caga.org/event/philadelphia-insurance-company-litter-clean-up/
LOCATION:Rt 441 Trailhead Parking Lot\, Harrisburg\, PA
END:VEVENT
BEGIN:VEVENT
DTSTART;TZID=America/New_York:20180401T130000
DTEND;TZID=America/New_York:20180401T160000
DTSTAMP:20260423T144926
CREATED:20180401T050059Z
LAST-MODIFIED:20180321T170912Z
UID:2573-1522587600-1522598400@caga.org
SUMMARY:First Sunday Greenbelt Ride
DESCRIPTION:Meet at the Derry St trail head behind the City Line Diner.  Helmets required.  Distance: 18-20 miles. Speed: avg 10 mph. \nRide will be canceled in bad weather.
URL:https://caga.org/event/first-sunday-greenbelt-ride/
LOCATION:Trail head\, Derry St\, 3302 Derry St\, Harrisburg\, PA\, 17111
END:VEVENT
BEGIN:VEVENT
DTSTART;VALUE=DATE:20180401
DTEND;VALUE=DATE:20180402
DTSTAMP:20260423T144926
CREATED:20180305T163929Z
LAST-MODIFIED:20180321T170957Z
UID:2457-1522540800-1522627199@caga.org
SUMMARY:Regular TDB registration begins
DESCRIPTION:Regular registration until May 16
URL:https://caga.org/event/regular-tdb-registration-begins/
LOCATION:HACC main campus\, 1 HACC Drive\, Harrisburg\, PA\, 17110\, United States
END:VEVENT
BEGIN:VEVENT
DTSTART;VALUE=DATE:20180331
DTEND;VALUE=DATE:20180401
DTSTAMP:20260423T144926
CREATED:20180305T163523Z
LAST-MODIFIED:20180321T171037Z
UID:2454-1522454400-1522540799@caga.org
SUMMARY:Early TDB registration ends
DESCRIPTION:See our registration form links on the TDB page in the menu
URL:https://caga.org/event/early-tdb-registration-ends/
LOCATION:HACC main campus\, 1 HACC Drive\, Harrisburg\, PA\, 17110\, United States
END:VEVENT
BEGIN:VEVENT
DTSTART;TZID=America/New_York:20180327T110000
DTEND;TZID=America/New_York:20180327T120000
DTSTAMP:20260423T144926
CREATED:20180225T020223Z
LAST-MODIFIED:20180326T195343Z
UID:2388-1522148400-1522152000@caga.org
SUMMARY:Construction Upgrade Groundbreaking Ceremony
DESCRIPTION:
URL:https://caga.org/event/construction-upgrade-groundbreaking-ceremony/
LOCATION:Five Senses Garden\, Greenbelt Crossing at 441\, Harrisburg\, United States
END:VEVENT
BEGIN:VEVENT
DTSTART;TZID=America/New_York:20180323T180000
DTEND;TZID=America/New_York:20180323T220000
DTSTAMP:20260423T144926
CREATED:20180305T151930Z
LAST-MODIFIED:20180305T231223Z
UID:2449-1521828000-1521842400@caga.org
SUMMARY:Jam for a Cure\, featuring the Basement Boyz (benefits LLS)
DESCRIPTION:To wake up your winter spirits and in rememberance of Murray Huber\, the ultimate – and self proclaimed-Rhythm King (RK)\, Team Schoch is throwing a grand band gig to kick off the Man of the Year Campaign to raise funds for LLS in honor of RK. \nLive Music by the Basement Boyz.  Blues\, classic rock\, 70’s and 80’s jams \nSponsorships welcome \n 
URL:https://caga.org/event/jam-for-a-cure-featuring-the-basement-boyz-benefits-lls/
LOCATION:Elks Club\, 108 North St Johns Rd\, Camp Hill\, PA\, United States
END:VEVENT
BEGIN:VEVENT
DTSTART;TZID=America/New_York:20180321T180000
DTEND;TZID=America/New_York:20180321T200000
DTSTAMP:20260423T144926
CREATED:20180221T154844Z
LAST-MODIFIED:20180321T175211Z
UID:2354-1521655200-1521662400@caga.org
SUMMARY:Board of Directors Meeting-cancelled
DESCRIPTION:cancelled due to snow.  See you next month.  Third Wednesday of every month.
URL:https://caga.org/event/board-of-directors-meeting-2/
LOCATION:Giant on Linglestown Road\, 2300 Linglestown Rd\, Harrisburg\, PA\, 17110\, United States
END:VEVENT
BEGIN:VEVENT
DTSTART;TZID=America/New_York:20180318T140000
DTEND;TZID=America/New_York:20180318T170000
DTSTAMP:20260423T144926
CREATED:20180305T025244Z
LAST-MODIFIED:20180305T025244Z
UID:2430-1521381600-1521392400@caga.org
SUMMARY:Harrisburg St Patrick's Day Parade
DESCRIPTION:2nd Annual St Patrick’s Day Parade.  Fleet Feet Sports of Mechanicsburg and the Harristown Improvement District are teaming up with the Lucky Charm 5k/10k Race prior to the parade. \n2018 Title Sponsor Kamionka Entertainment Group \nRegister to march in the parade.
URL:https://caga.org/event/harrisburg-st-patricks-day-parade/
LOCATION:St Patrick’s Day Parade and Lucky Charm Race\, Harrisburg\, PA\, United States
END:VEVENT
END:VCALENDAR